BEGIN:VCALENDAR
VERSION:2.0
BEGIN:VEVENT
DTSTAMP: 20260412T160551Z
DTSTART: 20260626T160000
DTEND: 20260628T180000
SUMMARY: ML
DESCRIPTION: 
UID: 149738-3049X@www.mebil.no
END:VEVENT
END:VCALENDAR
