BEGIN:VCALENDAR
VERSION:2.0
BEGIN:VEVENT
DTSTAMP: 20260312T151547Z
DTSTART: 20270722T180000
DTEND: 20270726T180000
SUMMARY: Bryllup JE
DESCRIPTION: 
UID: 149691-3049X@www.mebil.no
END:VEVENT
END:VCALENDAR
